BEGIN:VCALENDAR
VERSION:2.0
PRODID:GIGPRESS 2.0 WORDPRESS PLUGIN
CALSCALE:GREGORIAN
X-WR-TIMEZONE:Etc/GMT
METHOD:PUBLISH
BEGIN:VTIMEZONE
TZID:GMT
BEGIN:STANDARD
DTSTART:20071028T010000
TZOFFSETTO:+0000
TZOFFSETFROM:+0000
END:STANDARD
END:VTIMEZONE
BEGIN:VEVENT
SUMMARY:Shawna Caspi at Huron Island Time
DESCRIPTION:Price: Free!. Notes: Part of the Sunset Music Series. Show will be rescheduled for Sunday if it rains on Saturday. All Ages
LOCATION:Huron Island Time\, 24 Mutchmor Street\, Providence Bay\, CA
UID:20260711T183000Z-571-info@shawnacaspi.com
URL:https://shawnacaspi.com
DTSTART;VALUE=DATE-TIME;TZID=GMT:20260711T183000Z
DTEND;VALUE=DATE-TIME;TZID=GMT:20260711T183000Z
DTSTAMP:20260420T092140Z
END:VEVENT
END:VCALENDAR